BEGIN:VCALENDAR
VERSION:2.0
PRODID:-//Jefferson County, PA - ECPv6.6.4.2//NONSGML v1.0//EN
CALSCALE:GREGORIAN
METHOD:PUBLISH
X-WR-CALNAME:Jefferson County, PA
X-ORIGINAL-URL:https://visitjeffersonpa.org
X-WR-CALDESC:Events for Jefferson County, PA
REFRESH-INTERVAL;VALUE=DURATION:PT1H
X-Robots-Tag:noindex
X-PUBLISHED-TTL:PT1H
BEGIN:VTIMEZONE
TZID:America/New_York
BEGIN:DAYLIGHT
TZOFFSETFROM:-0500
TZOFFSETTO:-0400
TZNAME:EDT
DTSTART:20260308T070000
END:DAYLIGHT
BEGIN:STANDARD
TZOFFSETFROM:-0400
TZOFFSETTO:-0500
TZNAME:EST
DTSTART:20261101T060000
END:STANDARD
END:VTIMEZONE
BEGIN:VEVENT
DTSTART;TZID=America/New_York:20260502T080000
DTEND;TZID=America/New_York:20260502T120000
DTSTAMP:20260419T093650
CREATED:20260407T152028Z
LAST-MODIFIED:20260407T152028Z
UID:1801-1777708800-1777723200@visitjeffersonpa.org
SUMMARY:Youth Fishing Derby
DESCRIPTION:Heath Township invites you to their 43rd Annual Youth Fishing Derby here at Clear Creek State Park. Meet us at the beach to stock fish and enjoy some friendly fishing.\nRegistration and stocking begin at 8:00 AMFishing is from 9:00 AM – 12:00 PMOpen to all kids 15 years of age and under.\nFish stamping activity will be active throughout the event – provided by the park naturalist.
URL:https://visitjeffersonpa.org/event/youth-fishing-derby/
LOCATION:Clear Creek State Park\, 38 Clear Creek Park Road\, Sigel\, Pennsylvania
END:VEVENT
BEGIN:VEVENT
DTSTART;TZID=America/New_York:20260503T080000
DTEND;TZID=America/New_York:20260503T120000
DTSTAMP:20260419T093650
CREATED:20260407T154616Z
LAST-MODIFIED:20260407T154616Z
UID:1802-1777795200-1777809600@visitjeffersonpa.org
SUMMARY:Veterans & First Responders Fishing Derby
DESCRIPTION:Heath Township invites you to their 2nd Annual Veterans Fishing Derby here at Clear Creek State Park. Meet us at the beach to stock fish and enjoy some friendly fishing.\nRegistration and stocking begin at 8:00 AMFishing is from 9:00 AM – 12:00 PM\nOpen to all veterans\, current service members\, and first responders
URL:https://visitjeffersonpa.org/event/veterans-first-responders-fishing-derby/
LOCATION:Clear Creek State Park\, 38 Clear Creek Park Road\, Sigel\, Pennsylvania
END:VEVENT
BEGIN:VEVENT
DTSTART;TZID=America/New_York:20260509T080000
DTEND;TZID=America/New_York:20260509T130000
DTSTAMP:20260419T093650
CREATED:20260407T154725Z
LAST-MODIFIED:20260407T154725Z
UID:1803-1778313600-1778331600@visitjeffersonpa.org
SUMMARY:Woodsy Owl Work Day
DESCRIPTION:If you are interested in volunteering at the park in any way possible\, join the park staff in volunteering to help with projects throughout the park. Projects varying from removing invasives\, building bluebird boxes\, painting projects\, planting flowers and trees\, to cleaning off historical objects within the park and more!\n****Visit our NEW volunteer system to register as a volunteer. https://dcnrvolunteers.pa.gov\nPlease reach out to Clear Creek State Park for more information at (814) 752-2368 by April 30th.\nPlease wear appropriate clothing as projects vary and majority are outside; bug spray and sunscreen are recommended.
URL:https://visitjeffersonpa.org/event/woodsy-owl-work-day/
LOCATION:Clear Creek State Park\, 38 Clear Creek Park Road\, Sigel\, Pennsylvania
END:VEVENT
BEGIN:VEVENT
DTSTART;TZID=America/New_York:20260509T170000
DTEND;TZID=America/New_York:20260509T210000
DTSTAMP:20260419T093650
CREATED:20260409T134300Z
LAST-MODIFIED:20260409T134300Z
UID:1805-1778346000-1778360400@visitjeffersonpa.org
SUMMARY:3rd Annual Basket Bingo
DESCRIPTION:Doors open at 4:00 PMPresale tickets $20The Eagles will have their Bar and Kitchen open to purchase Food and DrinksBingo\, Rip tickets\, and lots of fun!!\nSpecial Bingos:Apple WatchRTIC 52 quart CoolerSmoker$150 Lottery Tree
URL:https://visitjeffersonpa.org/event/3rd-annual-basket-bingo/
LOCATION:Falls Creek Eagles\, 189 Jefferson Ave\, Falls Creek\, Pennsylvania
END:VEVENT
BEGIN:VEVENT
DTSTART;TZID=America/New_York:20260515T080000
DTEND;TZID=America/New_York:20260516T160000
DTSTAMP:20260419T093650
CREATED:20260406T140907Z
LAST-MODIFIED:20260406T140907Z
UID:1800-1778832000-1778947200@visitjeffersonpa.org
SUMMARY:The Big Beautiful Yard Sale
DESCRIPTION:All communities are welcome to participate in our “Big Beautiful Yard Sale” event! Clean out those attics\, basements\, and garages! Our level lot makes it easy for setup and shoppers to buy your items! Tons of parking available\, including handicap. We will be accepting parking donations from shoppers.Bring your tables\, chairs\, canopies and of course your treasures to sell! This is a rain or shine event. No refunds will be issued.Grandkids Ice Cream  along withK&S Concessions will be there!  K&S will be serving their breakfast 9-11/regular menu 11-4. Atm will be available. Restrooms on grounds. This will be a yearly event!Reserve your spot today or have questions\, please call Melissa @ 814-715-5147. Spots are $10 per day\, payable by: cash or checks made payable to Warsaw Fire Company.Vendors are responsible for their own clean up/garbage. Any items you do not want at the end of sale can be donated to our local social center-they will collect them.ALL monies will benefit Warsaw Fire Company
URL:https://visitjeffersonpa.org/event/the-big-beautiful-yard-sale/
LOCATION:Warsaw Fire Company\, 6847 Route 28 N\, Brookville\, Pennsylvania\, 15825
END:VEVENT
BEGIN:VEVENT
DTSTART;TZID=America/New_York:20260516T130000
DTEND;TZID=America/New_York:20260516T160000
DTSTAMP:20260419T093650
CREATED:20260414T193625Z
LAST-MODIFIED:20260414T193625Z
UID:1811-1778936400-1778947200@visitjeffersonpa.org
SUMMARY:Cadillac Museum Open Weekend
DESCRIPTION:The Greenberg Cadillac Museum isn’t just a collection—it’s a full-throttle walk through America’s love affair with the automobile. Home to America’s Largest Cadillac Collection\, this place is PACKED with over 85 jaw-dropping classics that defined cool for generations.\nWe’re talking bold designs\, vintage luxury\, tailfins for days\, and the kind of cars that turned heads then—and still do now. Every corner hits you with something iconic\, from early 1900s pioneers to the smooth\, statement-making rides that owned the road.\nIf you love classic cars\, nostalgia\, or just want to see something seriously impressive right here in Brookville—this is your stop.
URL:https://visitjeffersonpa.org/event/cadillac-museum-open-weekend/
LOCATION:Greenberg Cadillac Museum\, 67 South White St.\, Brookville\, PA
END:VEVENT
BEGIN:VEVENT
DTSTART;TZID=America/New_York:20260516T150000
DTEND;TZID=America/New_York:20260516T190000
DTSTAMP:20260419T093650
CREATED:20260414T183945Z
LAST-MODIFIED:20260414T183945Z
UID:1810-1778943600-1778958000@visitjeffersonpa.org
SUMMARY:2026 Outdoor Extravaganza
DESCRIPTION:Join us for our annual outdoor extravaganza!\nDrawing will take place behind the Firehall at our park!\nTables and chairs will be provided first come first serve\, however all are welcome to come set up their own tents\, tables\, and chairs.\n$20 donationSaturday May 16th 2026Doors open at 3pmDinner at 5pmDrawing starts at 6:30\nA special drawing will be held at 7:30 for all veterans in attendance sponsored by Foxes Pizza of Reynoldsville.\nFollowed by a drawing for all 1st responders in attendance sponsored by The Sub Hub.\nYou must be able to pass a background check to receive prize.\nWinner is responsible for all background fees.\nNeed not to be present to win.\nPrizes supplied by: Beverly’s\nSGOC #6\nTickets available at the fire station as well as from any member.
URL:https://visitjeffersonpa.org/event/2026-outdoor-extravaganza/
LOCATION:Harry F. Kunselman Playground/Community Park\, 5th Street\, Reynoldsville\, Pennsylvania\, 15851
END:VEVENT
BEGIN:VEVENT
DTSTART;TZID=America/New_York:20260517T130000
DTEND;TZID=America/New_York:20260517T160000
DTSTAMP:20260419T093650
CREATED:20260414T193958Z
LAST-MODIFIED:20260414T193958Z
UID:1812-1779022800-1779033600@visitjeffersonpa.org
SUMMARY:Cadillac Museum Open Weekend
DESCRIPTION:The Greenberg Cadillac Museum isn’t just a collection—it’s a full-throttle walk through America’s love affair with the automobile. Home to America’s Largest Cadillac Collection\, this place is PACKED with over 85 jaw-dropping classics that defined cool for generations.\nWe’re talking bold designs\, vintage luxury\, tailfins for days\, and the kind of cars that turned heads then—and still do now. Every corner hits you with something iconic\, from early 1900s pioneers to the smooth\, statement-making rides that owned the road.\nIf you love classic cars\, nostalgia\, or just want to see something seriously impressive right here in Brookville—this is your stop.
URL:https://visitjeffersonpa.org/event/cadillac-museum-open-weekend-2/
LOCATION:Greenberg Cadillac Museum\, 67 South White St.\, Brookville\, PA
END:VEVENT
END:VCALENDAR