BEGIN:VCALENDAR
VERSION:2.0
PRODID:-//Jefferson County, PA - ECPv6.6.4.2//NONSGML v1.0//EN
CALSCALE:GREGORIAN
METHOD:PUBLISH
X-ORIGINAL-URL:https://visitjeffersonpa.org
X-WR-CALDESC:Events for Jefferson County, PA
REFRESH-INTERVAL;VALUE=DURATION:PT1H
X-Robots-Tag:noindex
X-PUBLISHED-TTL:PT1H
BEGIN:VTIMEZONE
TZID:America/New_York
BEGIN:DAYLIGHT
TZOFFSETFROM:-0500
TZOFFSETTO:-0400
TZNAME:EDT
DTSTART:20260308T070000
END:DAYLIGHT
BEGIN:STANDARD
TZOFFSETFROM:-0400
TZOFFSETTO:-0500
TZNAME:EST
DTSTART:20261101T060000
END:STANDARD
END:VTIMEZONE
BEGIN:VEVENT
DTSTART;TZID=America/New_York:20260606T120000
DTEND;TZID=America/New_York:20260606T160000
DTSTAMP:20260423T092118
CREATED:20260416T175451Z
LAST-MODIFIED:20260416T175451Z
UID:1814-1780747200-1780761600@visitjeffersonpa.org
SUMMARY:Little Toby Smoke Off BBQ Competition and Brockway Area Ambulance Car Cruise-In
DESCRIPTION:Backyard BBQers from all over put their skills to the test in the first stop of a summer long series of contests to see who’s the best. The event is open to the public. Come down and support your local pitmasters and the Brockway Area Ambulance’s Car Cruise-In. Then make sure you stay for the judges’ awards at the end! Food will be served from 12-4 or until sold out.\nIf you are interested in competing or need more information\, please email pawildsbbqcircuit@gmail.com!\nCheck out the Brockway Area Ambulance Cruise-In event by clicking this link! https://www.facebook.com/events/2101967227267612
URL:https://visitjeffersonpa.org/event/little-toby-smoke-off-bbq-competition-and-brockway-area-ambulance-car-cruise-in/
LOCATION:Taylor Memorial Park\, 765 Park Street\, Brockway\, Pennsylvania\, 15824
END:VEVENT
END:VCALENDAR