BEGIN:VCALENDAR
VERSION:2.0
PRODID:-//Jefferson County, PA - ECPv6.6.4.2//NONSGML v1.0//EN
CALSCALE:GREGORIAN
METHOD:PUBLISH
X-WR-CALNAME:Jefferson County, PA
X-ORIGINAL-URL:https://visitjeffersonpa.org
X-WR-CALDESC:Events for Jefferson County, PA
REFRESH-INTERVAL;VALUE=DURATION:PT1H
X-Robots-Tag:noindex
X-PUBLISHED-TTL:PT1H
BEGIN:VTIMEZONE
TZID:America/New_York
BEGIN:DAYLIGHT
TZOFFSETFROM:-0500
TZOFFSETTO:-0400
TZNAME:EDT
DTSTART:20260308T070000
END:DAYLIGHT
BEGIN:STANDARD
TZOFFSETFROM:-0400
TZOFFSETTO:-0500
TZNAME:EST
DTSTART:20261101T060000
END:STANDARD
END:VTIMEZONE
BEGIN:VEVENT
DTSTART;TZID=America/New_York:20260517T130000
DTEND;TZID=America/New_York:20260517T160000
DTSTAMP:20260421T072745
CREATED:20260414T193958Z
LAST-MODIFIED:20260414T193958Z
UID:1812-1779022800-1779033600@visitjeffersonpa.org
SUMMARY:Cadillac Museum Open Weekend
DESCRIPTION:The Greenberg Cadillac Museum isn’t just a collection—it’s a full-throttle walk through America’s love affair with the automobile. Home to America’s Largest Cadillac Collection\, this place is PACKED with over 85 jaw-dropping classics that defined cool for generations.\nWe’re talking bold designs\, vintage luxury\, tailfins for days\, and the kind of cars that turned heads then—and still do now. Every corner hits you with something iconic\, from early 1900s pioneers to the smooth\, statement-making rides that owned the road.\nIf you love classic cars\, nostalgia\, or just want to see something seriously impressive right here in Brookville—this is your stop.
URL:https://visitjeffersonpa.org/event/cadillac-museum-open-weekend-2/
LOCATION:Greenberg Cadillac Museum\, 67 South White St.\, Brookville\, PA
END:VEVENT
END:VCALENDAR