BEGIN:VCALENDAR
VERSION:2.0
PRODID:-//Jefferson County, PA - ECPv6.6.4.2//NONSGML v1.0//EN
CALSCALE:GREGORIAN
METHOD:PUBLISH
X-WR-CALNAME:Jefferson County, PA
X-ORIGINAL-URL:https://visitjeffersonpa.org
X-WR-CALDESC:Events for Jefferson County, PA
REFRESH-INTERVAL;VALUE=DURATION:PT1H
X-Robots-Tag:noindex
X-PUBLISHED-TTL:PT1H
BEGIN:VTIMEZONE
TZID:America/New_York
BEGIN:DAYLIGHT
TZOFFSETFROM:-0500
TZOFFSETTO:-0400
TZNAME:EDT
DTSTART:20260308T070000
END:DAYLIGHT
BEGIN:STANDARD
TZOFFSETFROM:-0400
TZOFFSETTO:-0500
TZNAME:EST
DTSTART:20261101T060000
END:STANDARD
END:VTIMEZONE
BEGIN:VEVENT
DTSTART;TZID=America/New_York:20260130T080000
DTEND;TZID=America/New_York:20260130T170000
DTSTAMP:20260421T055541
CREATED:20251230T150846Z
LAST-MODIFIED:20251230T150846Z
UID:1687-1769760000-1769792400@visitjeffersonpa.org
SUMMARY:Groundhog Day Celebrations @ Sandfly Brewing
DESCRIPTION:Whether you think Spring or love the snow\, we’re here for it all at Sandfly! Come on by Sandfly for drink specials\, fire pits\, music\, multiple food trucks\, and of course fresh local brews.\nFRIDAY 1/30 – 3-11PSmokin’ J’s BBQCountry Cookies and Bakery
URL:https://visitjeffersonpa.org/event/groundhog-day-celebrations-sandfly-brewing/
LOCATION:Sandfly Brewing\, 659 South Main St Extension\, Punxsutawney\, PA\, 15767\, United States
END:VEVENT
BEGIN:VEVENT
DTSTART;TZID=America/New_York:20260130T210000
DTEND;TZID=America/New_York:20260130T230000
DTSTAMP:20260421T055541
CREATED:20251119T190622Z
LAST-MODIFIED:20251119T190622Z
UID:1631-1769806800-1769814000@visitjeffersonpa.org
SUMMARY:Pre-Groundhog Day Festivities welcomes The WIRE
DESCRIPTION:Punxsutawney Chamber welcomes The WIRE for an evening of pre-Groundhog Day Festivities at the Punxsutawney Eagles!
URL:https://visitjeffersonpa.org/event/pre-groundhog-day-festivities-welcomes-the-wire/
LOCATION:Punxsutawney Eagles\, 238 E Mahoning St\, Punxsutawney\, PA\, 15767\, United States
END:VEVENT
BEGIN:VEVENT
DTSTART;TZID=America/New_York:20260130T210000
DTEND;TZID=America/New_York:20260130T230000
DTSTAMP:20260421T055541
CREATED:20260105T190844Z
LAST-MODIFIED:20260105T190844Z
UID:1703-1769806800-1769814000@visitjeffersonpa.org
SUMMARY:Kick Off Groundhog Day Weekend Dance
DESCRIPTION:Start your Groundhog Day Weekend off with a bang at the annual Groundhog Day Weekend Dance!  Tickets available at the Punxsutawney Chamber and Laska’s Pizza. Online tickets available at punxsutawney.com.
URL:https://visitjeffersonpa.org/event/kick-off-groundhog-day-weekend-dance/
LOCATION:Punxsutawney Eagles\, 238 E Mahoning St\, Punxsutawney\, PA\, 15767\, United States
END:VEVENT
END:VCALENDAR