BEGIN:VCALENDAR
VERSION:2.0
PRODID:-//Jefferson County, PA - ECPv6.6.4.2//NONSGML v1.0//EN
CALSCALE:GREGORIAN
METHOD:PUBLISH
X-ORIGINAL-URL:https://visitjeffersonpa.org
X-WR-CALDESC:Events for Jefferson County, PA
REFRESH-INTERVAL;VALUE=DURATION:PT1H
X-Robots-Tag:noindex
X-PUBLISHED-TTL:PT1H
BEGIN:VTIMEZONE
TZID:America/New_York
BEGIN:DAYLIGHT
TZOFFSETFROM:-0500
TZOFFSETTO:-0400
TZNAME:EDT
DTSTART:20250309T070000
END:DAYLIGHT
BEGIN:STANDARD
TZOFFSETFROM:-0400
TZOFFSETTO:-0500
TZNAME:EST
DTSTART:20251102T060000
END:STANDARD
END:VTIMEZONE
BEGIN:VEVENT
DTSTART;TZID=America/New_York:20251014T080000
DTEND;TZID=America/New_York:20251014T170000
DTSTAMP:20260421T073747
CREATED:20250918T145447Z
LAST-MODIFIED:20250930T174244Z
UID:1525-1760428800-1760461200@visitjeffersonpa.org
SUMMARY:Halloween Window Paintings
DESCRIPTION:A beloved tradition since 1957 continues on Tuesday\, October 14th\, as Brookville High School art students transform downtown storefronts into a spooky outdoor gallery of Halloween window paintings!   \nWe invite you to take a stroll along Main Street\, enjoy the creativity on display\, and cas your vote for your feavorite design.  Ballots can be picked up at the Brookville Chamber office\, Fox’s Pizza\, and YMCA (one vote per person).  It’s a fun\, festive way to celebrate the season and support our talented students!   \nDeadline to vote is Monday\, October 27th.
URL:https://visitjeffersonpa.org/event/halloween-window-paintings/
LOCATION:Brookville Main Street\, N Pickering Street\, Brookville\, Pennsylvania\, 15825
END:VEVENT
BEGIN:VEVENT
DTSTART;TZID=America/New_York:20251014T180000
DTEND;TZID=America/New_York:20251014T200000
DTSTAMP:20260421T073747
CREATED:20250930T174846Z
LAST-MODIFIED:20250930T174846Z
UID:1557-1760464800-1760472000@visitjeffersonpa.org
SUMMARY:Wilson's Woodshed Turkey Sitter Paint & Sip
DESCRIPTION:Join us for our monthly Paint and Sip!\nThis Paint & Sip we will be painting an adorable Turkey Sitter! Gather your friends and come for a relaxing night of painting and crafting! Whether you are an experienced painter or beginner\, this event is fun for all!\nCost: $50 (includes wooden sitter\, painting supplies\, 2 glasses of wine\, and light refreshments)\nWe will begin promptly at 6pm. Space is limited. Please RSVP by sending a DM or stop in at the store. If you sign up and are unable to attend\, please let us know so we know how many pieces to have available and someone else can attend.
URL:https://visitjeffersonpa.org/event/wilsons-woodshed-turkey-sitter-paint-sip/
LOCATION:Wilson’s Woodshed\, 864 Route 36\, Brookville\, 15825
END:VEVENT
END:VCALENDAR