BEGIN:VCALENDAR
VERSION:2.0
PRODID:-//Jefferson County, PA - ECPv6.6.4.2//NONSGML v1.0//EN
CALSCALE:GREGORIAN
METHOD:PUBLISH
X-WR-CALNAME:Jefferson County, PA
X-ORIGINAL-URL:https://visitjeffersonpa.org
X-WR-CALDESC:Events for Jefferson County, PA
REFRESH-INTERVAL;VALUE=DURATION:PT1H
X-Robots-Tag:noindex
X-PUBLISHED-TTL:PT1H
BEGIN:VTIMEZONE
TZID:America/New_York
BEGIN:DAYLIGHT
TZOFFSETFROM:-0500
TZOFFSETTO:-0400
TZNAME:EDT
DTSTART:20260308T070000
END:DAYLIGHT
BEGIN:STANDARD
TZOFFSETFROM:-0400
TZOFFSETTO:-0500
TZNAME:EST
DTSTART:20261101T060000
END:STANDARD
END:VTIMEZONE
BEGIN:VEVENT
DTSTART;TZID=America/New_York:20260424T100000
DTEND;TZID=America/New_York:20260424T130000
DTSTAMP:20260424T060057
CREATED:20260330T160233Z
LAST-MODIFIED:20260330T160233Z
UID:1793-1777024800-1777035600@visitjeffersonpa.org
SUMMARY:Celebrate Trails Day 2026
DESCRIPTION:Come and experience Five Bridges Trail. Our special day is Saturday\, April 24 from 10:00 to 1:00 pm. We will have a special table set up at the Allens Mills trailhead with info and freebies. But you can enjoy the trail any time during daylight hours. Hike\, bike\, birdwatch\, geocache or just sit on a bench and enjoy the peacefulness of nature.
URL:https://visitjeffersonpa.org/event/celebrate-trails-day-2026/
LOCATION:Allens Mills Trailhead\, Allens Mills Trailhead\, Allens Mills\, Pennsylvania\, 15825
END:VEVENT
END:VCALENDAR