BEGIN:VCALENDAR
VERSION:2.0
PRODID:-//Jefferson County, PA - ECPv6.6.4.2//NONSGML v1.0//EN
CALSCALE:GREGORIAN
METHOD:PUBLISH
X-WR-CALNAME:Jefferson County, PA
X-ORIGINAL-URL:https://visitjeffersonpa.org
X-WR-CALDESC:Events for Jefferson County, PA
REFRESH-INTERVAL;VALUE=DURATION:PT1H
X-Robots-Tag:noindex
X-PUBLISHED-TTL:PT1H
BEGIN:VTIMEZONE
TZID:America/New_York
BEGIN:DAYLIGHT
TZOFFSETFROM:-0500
TZOFFSETTO:-0400
TZNAME:EDT
DTSTART:20260308T070000
END:DAYLIGHT
BEGIN:STANDARD
TZOFFSETFROM:-0400
TZOFFSETTO:-0500
TZNAME:EST
DTSTART:20261101T060000
END:STANDARD
END:VTIMEZONE
BEGIN:VEVENT
DTSTART;TZID=America/New_York:20260421T100000
DTEND;TZID=America/New_York:20260421T140000
DTSTAMP:20260421T071713
CREATED:20260416T155935Z
LAST-MODIFIED:20260416T155935Z
UID:1813-1776765600-1776780000@visitjeffersonpa.org
SUMMARY:Brighton Trunk Show @ Fairlady & Co.
DESCRIPTION:Fairlady and Company invites you for a preview of all the new Brighton jewelry and accessories. Get ready for summer with all of these new arrivals and find something for that special woman in your life for Mother’s Day.Our rep Meredith will also be here to help you find something incredible for yourself or someone you love
URL:https://visitjeffersonpa.org/event/brighton-trunk-show-fairlady-co/
LOCATION:Fairlady & Company\, 100 West Mahoning Street\, Punxsutawney\, PA\, 15767\, United States
END:VEVENT
END:VCALENDAR